BEGIN:VCALENDAR
VERSION:2.0
PRODID:-//hacksw/handcal//NONSGML v1.0//EN
BEGIN:VEVENT
SUMMARY:musique annulee. Prochaine repetition le mercredi 4 fevrier
UID:a25645a7-7a37-4308-a895-c315f6287d9c
DTSTART:20260128T083000Z
DTEND:20260128T110000Z
LOCATION:Localisation   
CATEGORIES:Entrainement
STATUS:
URL;VALUE=URI:https://www.acgr22.fr/evenements/2026/01/28/musique-annulee-prochaine-repetition-le-mercredi-4-fevrier-2353364
END:VEVENT
END:VCALENDAR
