BEGIN:VCALENDAR
VERSION:2.0
PRODID:-//hacksw/handcal//NONSGML v1.0//EN
BEGIN:VEVENT
SUMMARY:art floral (ANNULE)
UID:00bf27be-36c7-4c72-851f-aa43c20bcfa9
DTSTART:20260130T084500Z
DTEND:20260130T110000Z
LOCATION:Localisation   
CATEGORIES:Entrainement
STATUS:
URL;VALUE=URI:https://www.acgr22.fr/evenements/2026/01/30/art-floral-annule-2354505
END:VEVENT
END:VCALENDAR
