BEGIN:VCALENDAR
VERSION:2.0
PRODID:-//hacksw/handcal//NONSGML v1.0//EN
BEGIN:VEVENT
SUMMARY:Repetition contes accordeon
UID:3f3ba55e-4ce6-4a32-bd6a-f5ffbd3e54a3
DTSTART:20260217T140000Z
DTEND:20260217T160000Z
LOCATION:Localisation   
CATEGORIES:Sportif
STATUS:
URL;VALUE=URI:https://www.acgr22.fr/evenements/2026/02/17/repetition-contes-accordeon-2408473
END:VEVENT
END:VCALENDAR
