BEGIN:VCALENDAR
VERSION:2.0
PRODID:-//hacksw/handcal//NONSGML v1.0//EN
BEGIN:VEVENT
SUMMARY:Rando 5km (annulee)
UID:b7254036-4932-4f9a-a1d4-287533996e22
DTSTART:20260331T120000Z
DTEND:20260331T150000Z
LOCATION:Localisation   
CATEGORIES:Entrainement
STATUS:
URL;VALUE=URI:https://www.acgr22.fr/evenements/2026/03/31/rando-5km-annulee-2355264
END:VEVENT
END:VCALENDAR
