BEGIN:VCALENDAR
VERSION:2.0
PRODID:-//hacksw/handcal//NONSGML v1.0//EN
BEGIN:VEVENT
SUMMARY:Pas de randos Lundi de Paques
UID:e0bb2968-49ce-4df5-b5f5-5b436c959554
DTSTART:20260406T113000Z
DTEND:20260406T153000Z
LOCATION:Localisation   
CATEGORIES:Entrainement
STATUS:
URL;VALUE=URI:https://www.acgr22.fr/evenements/2026/04/06/pas-de-randos-lundi-de-paques-2355239
END:VEVENT
END:VCALENDAR
