BEGIN:VCALENDAR
VERSION:2.0
PRODID:-//hacksw/handcal//NONSGML v1.0//EN
BEGIN:VEVENT
SUMMARY:Pas de seance de musique (vacances)
UID:34b2c34b-3d79-4a33-ba4f-4f32fc3618bc
DTSTART:20260415T073000Z
DTEND:20260415T100000Z
LOCATION:Localisation   
CATEGORIES:Entrainement
STATUS:
URL;VALUE=URI:https://www.acgr22.fr/evenements/2026/04/15/pas-de-seance-de-musique-vacances-2353375
END:VEVENT
END:VCALENDAR
