BEGIN:VCALENDAR
VERSION:2.0
PRODID:-//hacksw/handcal//NONSGML v1.0//EN
BEGIN:VEVENT
SUMMARY:art floral (ANNULE)
UID:8d5851c7-4bf2-4e26-80ce-164f7b4f277b
DTSTART:20260417T074500Z
DTEND:20260417T100000Z
LOCATION:Localisation   
CATEGORIES:Entrainement
STATUS:
URL;VALUE=URI:https://www.acgr22.fr/evenements/2026/04/17/art-floral-annule-2354514
END:VEVENT
END:VCALENDAR
