BEGIN:VCALENDAR
VERSION:2.0
PRODID:-//hacksw/handcal//NONSGML v1.0//EN
BEGIN:VEVENT
SUMMARY:art floral(ANNULE)
UID:0c76c3bc-58e1-4b35-be8f-249ad9ec040f
DTSTART:20260424T074500Z
DTEND:20260424T094500Z
LOCATION:Localisation   
CATEGORIES:Entrainement
STATUS:
URL;VALUE=URI:https://www.acgr22.fr/evenements/2026/04/24/art-floralannule-2354516
END:VEVENT
END:VCALENDAR
