BEGIN:VCALENDAR
VERSION:2.0
PRODID:-//hacksw/handcal//NONSGML v1.0//EN
BEGIN:VEVENT
SUMMARY:sudoku (salle D )
UID:4f371823-471f-4631-842d-81032ab1b54c
DTSTART:20260910T073000Z
DTEND:20260910T093000Z
LOCATION:Localisation   
CATEGORIES:Entrainement
STATUS:
URL;VALUE=URI:https://www.acgr22.fr/evenements/2026/09/10/sudoku-salle-d-2442333
END:VEVENT
END:VCALENDAR
