BEGIN:VCALENDAR
VERSION:2.0
PRODID:-//hacksw/handcal//NONSGML v1.0//EN
BEGIN:VEVENT
SUMMARY:Rando/car (sur inscription)
UID:d84d5568-5e02-43c1-9b9f-a27a9c530e11
DTSTART:20261012T050000Z
DTEND:20261012T170000Z
LOCATION:Localisation   
CATEGORIES:Sportif
STATUS:
URL;VALUE=URI:https://www.acgr22.fr/evenements/2026/10/12/randocar-sur-inscription-2442463
END:VEVENT
END:VCALENDAR
