BEGIN:VCALENDAR
VERSION:2.0
PRODID:-//hacksw/handcal//NONSGML v1.0//EN
BEGIN:VEVENT
SUMMARY:danse en ligne
UID:b0501d04-753c-4082-b51d-02c8c39b9d90
DTSTART:20261014T123000Z
DTEND:20261014T150000Z
LOCATION:Localisation   
CATEGORIES:Entrainement
STATUS:
URL;VALUE=URI:https://www.acgr22.fr/evenements/2026/10/14/danse-en-ligne-2442240
END:VEVENT
END:VCALENDAR
