BEGIN:VCALENDAR
VERSION:2.0
PRODID:-//hacksw/handcal//NONSGML v1.0//EN
BEGIN:VEVENT
SUMMARY:echec -scrabble
UID:70e5a285-a642-4450-be16-4e44162a0398
DTSTART:20261014T073000Z
DTEND:20261014T100000Z
LOCATION:Localisation   
CATEGORIES:Entrainement
STATUS:
URL;VALUE=URI:https://www.acgr22.fr/evenements/2026/10/14/echec-scrabble-2442353
END:VEVENT
END:VCALENDAR
