BEGIN:VCALENDAR
VERSION:2.0
PRODID:-//hacksw/handcal//NONSGML v1.0//EN
BEGIN:VEVENT
SUMMARY:musique
UID:1ffd4dbf-70b2-4377-b674-fe26a6bb5476
DTSTART:20261014T073000Z
DTEND:20261014T100000Z
LOCATION:Localisation   
CATEGORIES:Entrainement
STATUS:
URL;VALUE=URI:https://www.acgr22.fr/evenements/2026/10/14/musique-2442291
END:VEVENT
END:VCALENDAR
