BEGIN:VCALENDAR
VERSION:2.0
PRODID:-//hacksw/handcal//NONSGML v1.0//EN
BEGIN:VEVENT
SUMMARY:yoga
UID:93055e15-dc33-490a-9d3f-941e601582ab
DTSTART:20261015T070000Z
DTEND:20261015T083000Z
LOCATION:Localisation   
CATEGORIES:Entrainement
STATUS:
URL;VALUE=URI:https://www.acgr22.fr/evenements/2026/10/15/yoga-2442274
END:VEVENT
END:VCALENDAR
