BEGIN:VCALENDAR
VERSION:2.0
PRODID:-//hacksw/handcal//NONSGML v1.0//EN
BEGIN:VEVENT
SUMMARY:permanence - jeux de societe
UID:505f49e7-53b2-4790-b97e-0e7d5703d6ae
DTSTART:20261016T113000Z
DTEND:20261016T143000Z
LOCATION:Localisation   
CATEGORIES:Entrainement
STATUS:
URL;VALUE=URI:https://www.acgr22.fr/evenements/2026/10/16/permanence-jeux-de-societe-2442368
END:VEVENT
END:VCALENDAR
