BEGIN:VCALENDAR
VERSION:2.0
PRODID:-//hacksw/handcal//NONSGML v1.0//EN
BEGIN:VEVENT
SUMMARY:tricot
UID:5067529a-c712-4aec-9e4b-caa9aa710d1d
DTSTART:20261019T070000Z
DTEND:20261019T100000Z
LOCATION:Localisation   
CATEGORIES:Entrainement
STATUS:
URL;VALUE=URI:https://www.acgr22.fr/evenements/2026/10/19/tricot-2441972
END:VEVENT
END:VCALENDAR
