BEGIN:VCALENDAR
VERSION:2.0
PRODID:-//hacksw/handcal//NONSGML v1.0//EN
BEGIN:VEVENT
SUMMARY:musique
UID:d40f6685-836f-44e0-9216-fa846aff6dae
DTSTART:20261021T073000Z
DTEND:20261021T100000Z
LOCATION:Localisation   
CATEGORIES:Entrainement
STATUS:
URL;VALUE=URI:https://www.acgr22.fr/evenements/2026/10/21/musique-2442290
END:VEVENT
END:VCALENDAR
