BEGIN:VCALENDAR
VERSION:2.0
PRODID:-//hacksw/handcal//NONSGML v1.0//EN
BEGIN:VEVENT
SUMMARY:sudoku (salle D )
UID:278c3c1f-1aa8-44ff-9056-bcb1c09064d5
DTSTART:20261022T073000Z
DTEND:20261022T093000Z
LOCATION:Localisation   
CATEGORIES:Entrainement
STATUS:
URL;VALUE=URI:https://www.acgr22.fr/evenements/2026/10/22/sudoku-salle-d-2442337
END:VEVENT
END:VCALENDAR
