BEGIN:VCALENDAR
VERSION:2.0
PRODID:-//hacksw/handcal//NONSGML v1.0//EN
BEGIN:VEVENT
SUMMARY:art floral
UID:a34ca716-beb6-4f96-8c56-403c8fa55d2f
DTSTART:20261023T074500Z
DTEND:20261023T100000Z
LOCATION:Localisation   
CATEGORIES:Entrainement
STATUS:
URL;VALUE=URI:https://www.acgr22.fr/evenements/2026/10/23/art-floral-2441345
END:VEVENT
END:VCALENDAR
