BEGIN:VCALENDAR
VERSION:2.0
PRODID:-//hacksw/handcal//NONSGML v1.0//EN
BEGIN:VEVENT
SUMMARY:permanence - jeux de societe
UID:dab35871-9824-42d9-a334-6861139c0194
DTSTART:20261023T113000Z
DTEND:20261023T143000Z
LOCATION:Localisation   
CATEGORIES:Entrainement
STATUS:
URL;VALUE=URI:https://www.acgr22.fr/evenements/2026/10/23/permanence-jeux-de-societe-2442367
END:VEVENT
END:VCALENDAR
