BEGIN:VCALENDAR
VERSION:2.0
PRODID:-//hacksw/handcal//NONSGML v1.0//EN
BEGIN:VEVENT
SUMMARY:Rando 8 km
UID:51c5c8c2-6dad-4697-8631-cec9ac2a315a
DTSTART:20261025T080000Z
DTEND:20261025T220000Z
LOCATION:Localisation   
CATEGORIES:Entrainement
STATUS:
URL;VALUE=URI:https://www.acgr22.fr/evenements/2026/10/25/rando-8-km-2442428
END:VEVENT
END:VCALENDAR
