BEGIN:VCALENDAR
VERSION:2.0
PRODID:-//hacksw/handcal//NONSGML v1.0//EN
BEGIN:VEVENT
SUMMARY:Rando 8 km ou 12 km
UID:daa56527-9a9a-4a7d-95cf-091846935435
DTSTART:20261026T123000Z
DTEND:20261026T230000Z
LOCATION:Localisation   
CATEGORIES:Entrainement
STATUS:
URL;VALUE=URI:https://www.acgr22.fr/evenements/2026/10/26/rando-8-km-ou-12-km-2442386
END:VEVENT
END:VCALENDAR
