BEGIN:VCALENDAR
VERSION:2.0
PRODID:-//hacksw/handcal//NONSGML v1.0//EN
BEGIN:VEVENT
SUMMARY:danse bretonne
UID:1e504afe-669d-47e0-a7ac-7fbaf8e3c95d
DTSTART:20261027T191500Z
DTEND:20261027T201500Z
LOCATION:Localisation   
CATEGORIES:Entrainement
STATUS:
URL;VALUE=URI:https://www.acgr22.fr/evenements/2026/10/27/danse-bretonne-2442326
END:VEVENT
END:VCALENDAR
