BEGIN:VCALENDAR
VERSION:2.0
PRODID:-//hacksw/handcal//NONSGML v1.0//EN
BEGIN:VEVENT
SUMMARY:photo
UID:b1e25c19-af67-46ca-bb83-4615dc8cd46e
DTSTART:20261027T090000Z
DTEND:20261027T110000Z
LOCATION:Localisation   
CATEGORIES:Entrainement
STATUS:
URL;VALUE=URI:https://www.acgr22.fr/evenements/2026/10/27/photo-2442306
END:VEVENT
END:VCALENDAR
