BEGIN:VCALENDAR
VERSION:2.0
PRODID:-//hacksw/handcal//NONSGML v1.0//EN
BEGIN:VEVENT
SUMMARY:Rando 5km
UID:b29a7e1f-0d6f-4c29-b1d7-22aea4c31d54
DTSTART:20261027T130000Z
DTEND:20261027T230000Z
LOCATION:Localisation   
CATEGORIES:Entrainement
STATUS:
URL;VALUE=URI:https://www.acgr22.fr/evenements/2026/10/27/rando-5km-2442401
END:VEVENT
END:VCALENDAR
