BEGIN:VCALENDAR
VERSION:2.0
PRODID:-//hacksw/handcal//NONSGML v1.0//EN
BEGIN:VEVENT
SUMMARY:echec -scrabble
UID:10520332-bf1f-4fca-84bc-987c435177eb
DTSTART:20261028T083000Z
DTEND:20261028T110000Z
LOCATION:Localisation   
CATEGORIES:Entrainement
STATUS:
URL;VALUE=URI:https://www.acgr22.fr/evenements/2026/10/28/echec-scrabble-2442356
END:VEVENT
END:VCALENDAR
