BEGIN:VCALENDAR
VERSION:2.0
PRODID:-//hacksw/handcal//NONSGML v1.0//EN
BEGIN:VEVENT
SUMMARY:musique
UID:09125107-ed50-45e4-b774-31c43f73a50c
DTSTART:20261028T083000Z
DTEND:20261028T110000Z
LOCATION:Localisation   
CATEGORIES:Entrainement
STATUS:
URL;VALUE=URI:https://www.acgr22.fr/evenements/2026/10/28/musique-2442294
END:VEVENT
END:VCALENDAR
