BEGIN:VCALENDAR
VERSION:2.0
PRODID:-//hacksw/handcal//NONSGML v1.0//EN
BEGIN:VEVENT
SUMMARY:Rando 15km+++
UID:d36566f6-4c30-4d36-b070-e6d60b4c0479
DTSTART:20261029T120000Z
DTEND:20261029T230000Z
LOCATION:Localisation   
CATEGORIES:Entrainement
STATUS:
URL;VALUE=URI:https://www.acgr22.fr/evenements/2026/10/29/rando-15km-2442417
END:VEVENT
END:VCALENDAR
