BEGIN:VCALENDAR
VERSION:2.0
PRODID:-//hacksw/handcal//NONSGML v1.0//EN
BEGIN:VEVENT
SUMMARY:sudoku (salle D )
UID:15b38d5a-92e4-4c9d-a0e1-f7afb3ca1ea4
DTSTART:20261029T083000Z
DTEND:20261029T103000Z
LOCATION:Localisation   
CATEGORIES:Entrainement
STATUS:
URL;VALUE=URI:https://www.acgr22.fr/evenements/2026/10/29/sudoku-salle-d-2442341
END:VEVENT
END:VCALENDAR
