BEGIN:VCALENDAR
VERSION:2.0
PRODID:-//hacksw/handcal//NONSGML v1.0//EN
BEGIN:VEVENT
SUMMARY:yoga
UID:a9bfad00-851c-4425-9ca3-5019d67d7705
DTSTART:20261029T080000Z
DTEND:20261029T093000Z
LOCATION:Localisation   
CATEGORIES:Entrainement
STATUS:
URL;VALUE=URI:https://www.acgr22.fr/evenements/2026/10/29/yoga-2442272
END:VEVENT
END:VCALENDAR
