BEGIN:VCALENDAR
VERSION:2.0
PRODID:-//hacksw/handcal//NONSGML v1.0//EN
BEGIN:VEVENT
SUMMARY:art floral
UID:162c9ec8-8f2d-4124-8e38-00981dfa6824
DTSTART:20261030T084500Z
DTEND:20261030T110000Z
LOCATION:Localisation   
CATEGORIES:Entrainement
STATUS:
URL;VALUE=URI:https://www.acgr22.fr/evenements/2026/10/30/art-floral-2441346
END:VEVENT
END:VCALENDAR
