BEGIN:VCALENDAR
VERSION:2.0
PRODID:-//hacksw/handcal//NONSGML v1.0//EN
BEGIN:VEVENT
SUMMARY:permanence - jeux de societe
UID:893ec5d2-217c-4e71-89c4-88aec8ef3980
DTSTART:20261030T123000Z
DTEND:20261030T153000Z
LOCATION:Localisation   
CATEGORIES:Entrainement
STATUS:
URL;VALUE=URI:https://www.acgr22.fr/evenements/2026/10/30/permanence-jeux-de-societe-2442371
END:VEVENT
END:VCALENDAR
