BEGIN:VCALENDAR
VERSION:2.0
PRODID:-//hacksw/handcal//NONSGML v1.0//EN
BEGIN:VEVENT
SUMMARY:Rando 8 km
UID:de5571de-d4db-494a-80ce-a73ab5f47e07
DTSTART:20261101T080000Z
DTEND:20261101T230000Z
LOCATION:Localisation   
CATEGORIES:Entrainement
STATUS:
URL;VALUE=URI:https://www.acgr22.fr/evenements/2026/11/01/rando-8-km-2442432
END:VEVENT
END:VCALENDAR
