BEGIN:VCALENDAR
VERSION:2.0
PRODID:-//hacksw/handcal//NONSGML v1.0//EN
BEGIN:VEVENT
SUMMARY:Rando 8 km ou 12 km
UID:7dbc9c65-9f91-4fb6-bf66-c601251d6208
DTSTART:20261102T123000Z
DTEND:20261102T230000Z
LOCATION:Localisation   
CATEGORIES:Entrainement
STATUS:
URL;VALUE=URI:https://www.acgr22.fr/evenements/2026/11/02/rando-8-km-ou-12-km-2442391
END:VEVENT
END:VCALENDAR
