BEGIN:VCALENDAR
VERSION:2.0
PRODID:-//hacksw/handcal//NONSGML v1.0//EN
BEGIN:VEVENT
SUMMARY:danse bretonne
UID:b97cdae2-d4f3-43b2-aaac-05e6eab1257f
DTSTART:20261103T191500Z
DTEND:20261103T201500Z
LOCATION:Localisation   
CATEGORIES:Entrainement
STATUS:
URL;VALUE=URI:https://www.acgr22.fr/evenements/2026/11/03/danse-bretonne-2442331
END:VEVENT
END:VCALENDAR
