BEGIN:VCALENDAR
VERSION:2.0
PRODID:-//hacksw/handcal//NONSGML v1.0//EN
BEGIN:VEVENT
SUMMARY:photo
UID:c4e34c9d-b5ea-417f-88eb-70664eb8c930
DTSTART:20261103T090000Z
DTEND:20261103T110000Z
LOCATION:Localisation   
CATEGORIES:Entrainement
STATUS:
URL;VALUE=URI:https://www.acgr22.fr/evenements/2026/11/03/photo-2442311
END:VEVENT
END:VCALENDAR
