BEGIN:VCALENDAR
VERSION:2.0
PRODID:-//hacksw/handcal//NONSGML v1.0//EN
BEGIN:VEVENT
SUMMARY:Rando 5km
UID:b50a95de-742a-4b12-a8da-075d4a102ed9
DTSTART:20261103T130000Z
DTEND:20261103T230000Z
LOCATION:Localisation   
CATEGORIES:Entrainement
STATUS:
URL;VALUE=URI:https://www.acgr22.fr/evenements/2026/11/03/rando-5km-2442406
END:VEVENT
END:VCALENDAR
