BEGIN:VCALENDAR
VERSION:2.0
PRODID:-//hacksw/handcal//NONSGML v1.0//EN
BEGIN:VEVENT
SUMMARY:echec -scrabble
UID:41b74e07-6796-4a7d-a2e3-364c6b3d42cc
DTSTART:20261104T083000Z
DTEND:20261104T110000Z
LOCATION:Localisation   
CATEGORIES:Entrainement
STATUS:
URL;VALUE=URI:https://www.acgr22.fr/evenements/2026/11/04/echec-scrabble-2442361
END:VEVENT
END:VCALENDAR
