BEGIN:VCALENDAR
VERSION:2.0
PRODID:-//hacksw/handcal//NONSGML v1.0//EN
BEGIN:VEVENT
SUMMARY:musique
UID:4642c8d1-94a3-45e6-a774-cf07c9e8b4b8
DTSTART:20261104T083000Z
DTEND:20261104T110000Z
LOCATION:Localisation   
CATEGORIES:Entrainement
STATUS:
URL;VALUE=URI:https://www.acgr22.fr/evenements/2026/11/04/musique-2442299
END:VEVENT
END:VCALENDAR
