BEGIN:VCALENDAR
VERSION:2.0
PRODID:-//hacksw/handcal//NONSGML v1.0//EN
BEGIN:VEVENT
SUMMARY:Rando 15km+++
UID:34fafcb1-df37-4a61-9404-0b81f2f28268
DTSTART:20261105T120000Z
DTEND:20261105T230000Z
LOCATION:Localisation   
CATEGORIES:Entrainement
STATUS:
URL;VALUE=URI:https://www.acgr22.fr/evenements/2026/11/05/rando-15km-2442422
END:VEVENT
END:VCALENDAR
