BEGIN:VCALENDAR
VERSION:2.0
PRODID:-//hacksw/handcal//NONSGML v1.0//EN
BEGIN:VEVENT
SUMMARY:sudoku (salle D )
UID:378823bf-7933-4d2a-a181-e1867a5821fb
DTSTART:20261105T083000Z
DTEND:20261105T103000Z
LOCATION:Localisation   
CATEGORIES:Entrainement
STATUS:
URL;VALUE=URI:https://www.acgr22.fr/evenements/2026/11/05/sudoku-salle-d-2442346
END:VEVENT
END:VCALENDAR
