BEGIN:VCALENDAR
VERSION:2.0
PRODID:-//hacksw/handcal//NONSGML v1.0//EN
BEGIN:VEVENT
SUMMARY:yoga
UID:de0943e1-23ea-49a8-8626-64129f71ff44
DTSTART:20261105T080000Z
DTEND:20261105T093000Z
LOCATION:Localisation   
CATEGORIES:Entrainement
STATUS:
URL;VALUE=URI:https://www.acgr22.fr/evenements/2026/11/05/yoga-2442277
END:VEVENT
END:VCALENDAR
