BEGIN:VCALENDAR
VERSION:2.0
PRODID:-//hacksw/handcal//NONSGML v1.0//EN
BEGIN:VEVENT
SUMMARY:peinture
UID:54c7b722-dde7-4f39-82ae-6655a7398490
DTSTART:20261106T083000Z
DTEND:20261106T110000Z
LOCATION:Localisation   
CATEGORIES:Entrainement
STATUS:
URL;VALUE=URI:https://www.acgr22.fr/evenements/2026/11/06/peinture-2441297
END:VEVENT
END:VCALENDAR
