BEGIN:VCALENDAR
VERSION:2.0
PRODID:-//hacksw/handcal//NONSGML v1.0//EN
BEGIN:VEVENT
SUMMARY:permanence - jeux de societe
UID:c4c185ea-f591-489f-9423-93b9bf1adc31
DTSTART:20261106T123000Z
DTEND:20261106T153000Z
LOCATION:Localisation   
CATEGORIES:Entrainement
STATUS:
URL;VALUE=URI:https://www.acgr22.fr/evenements/2026/11/06/permanence-jeux-de-societe-2442376
END:VEVENT
END:VCALENDAR
