BEGIN:VCALENDAR
VERSION:2.0
PRODID:-//hacksw/handcal//NONSGML v1.0//EN
BEGIN:VEVENT
SUMMARY:Rando 8 km
UID:d02a2b41-1645-445d-9270-e94a72878f87
DTSTART:20261108T080000Z
DTEND:20261108T230000Z
LOCATION:Localisation   
CATEGORIES:Entrainement
STATUS:
URL;VALUE=URI:https://www.acgr22.fr/evenements/2026/11/08/rando-8-km-2442437
END:VEVENT
END:VCALENDAR
