BEGIN:VCALENDAR
VERSION:2.0
PRODID:-//hacksw/handcal//NONSGML v1.0//EN
BEGIN:VEVENT
SUMMARY:Rando 8 km ou 12 km
UID:4f227f9f-b495-44ce-b0f4-dc460ee15534
DTSTART:20261109T123000Z
DTEND:20261109T230000Z
LOCATION:Localisation   
CATEGORIES:Entrainement
STATUS:
URL;VALUE=URI:https://www.acgr22.fr/evenements/2026/11/09/rando-8-km-ou-12-km-2442390
END:VEVENT
END:VCALENDAR
