BEGIN:VCALENDAR
VERSION:2.0
PRODID:-//hacksw/handcal//NONSGML v1.0//EN
BEGIN:VEVENT
SUMMARY:tricot
UID:4f5dc0a6-c205-42a0-8e15-4b7fc009c585
DTSTART:20261109T080000Z
DTEND:20261109T110000Z
LOCATION:Localisation   
CATEGORIES:Entrainement
STATUS:
URL;VALUE=URI:https://www.acgr22.fr/evenements/2026/11/09/tricot-2441973
END:VEVENT
END:VCALENDAR
