BEGIN:VCALENDAR
VERSION:2.0
PRODID:-//hacksw/handcal//NONSGML v1.0//EN
BEGIN:VEVENT
SUMMARY:danse bretonne
UID:65103c73-b4c8-4d34-8cab-c99f9a12a773
DTSTART:20261110T191500Z
DTEND:20261110T201500Z
LOCATION:Localisation   
CATEGORIES:Entrainement
STATUS:
URL;VALUE=URI:https://www.acgr22.fr/evenements/2026/11/10/danse-bretonne-2442330
END:VEVENT
END:VCALENDAR
