BEGIN:VCALENDAR
VERSION:2.0
PRODID:-//hacksw/handcal//NONSGML v1.0//EN
BEGIN:VEVENT
SUMMARY:photo
UID:00a905af-c263-4ab0-a570-88ec4aa82686
DTSTART:20261110T090000Z
DTEND:20261110T110000Z
LOCATION:Localisation   
CATEGORIES:Entrainement
STATUS:
URL;VALUE=URI:https://www.acgr22.fr/evenements/2026/11/10/photo-2442310
END:VEVENT
END:VCALENDAR
