BEGIN:VCALENDAR
VERSION:2.0
PRODID:-//hacksw/handcal//NONSGML v1.0//EN
BEGIN:VEVENT
SUMMARY:Rando 5km
UID:3e71757b-2595-47d3-99c9-f210fb512224
DTSTART:20261110T130000Z
DTEND:20261110T230000Z
LOCATION:Localisation   
CATEGORIES:Entrainement
STATUS:
URL;VALUE=URI:https://www.acgr22.fr/evenements/2026/11/10/rando-5km-2442405
END:VEVENT
END:VCALENDAR
